BEGIN:VCALENDAR
VERSION:2.0
PRODID:-//wp-events-plugin.com//7.2.3.1//EN
TZID:America/Vancouver
X-WR-TIMEZONE:America/Vancouver
BEGIN:VEVENT
UID:16@healthofficerscouncil.net
DTSTART;TZID=America/Vancouver;VALUE=DATE:20251125
DTEND;TZID=America/Vancouver;VALUE=DATE:20251128
DTSTAMP:20251121T212357Z
URL:https://www.healthofficerscouncil.net/events/162-hocbc-2025-fall-hybri
 d-conference-registration/
SUMMARY:162nd HOCBC 2025 Fall Hybrid Conference - Registration
DESCRIPTION:REGISTRATION\n\n162nd Fall Health Officers Council of BC Confer
 ence\nPonderosa Commons Ballroom\nUniversity of British Columbia\n6445 Uni
 versity Boulevard\nVancouver\, BC\nNovember 25th\, 26th &amp\; 27th (half 
 day)\, 2025\n&nbsp\;\n\nThe 162nd Health Officers’ Council 2025 Fall Hyb
 rid Conference is set to take place from Tuesday\, November 25th to Thursd
 ay\, November 27th in the Ponderosa Commons Ballroom at the University of 
 BC in Vancouver\, BC.\n\nWe are looking forward to welcoming you all to Va
 ncouver\, the traditional\, ancestral\, and unceded territory of the xʷm
 əθkʷəy̓əm (Musqueam) people\, along with the Skwxwú7mesh (Squamish
 ) and səl̓ilwətaɁɬ (Tsleil-Waututh) Nations this November. Those wh
 o cannot attend in person are welcome to participate online. Agenda and ma
 terials for the conference will be made available at a later date and will
  be located under the Events Menu Tab.*\n\nTo register to attend please se
 lect your registration type below and complete the form then click the "Pa
 yPal check out" button to complete your registration. All sales are final.
  Registration types are as follows:\n\n 	Regular members\n 	Semi-retired (
 self-declared category for those who have formally retired and continue to
  work in some capacity)\n 	Retired\n 	Affiliate members (approved by direc
 torship and include: PHPM or allied physicians practicing in the Yukon\, p
 revious HOC members practicing outside of BC\, select administrative leade
 rship positions in BC\, and select leaders of public health/academic organ
 izations in BC)\n 	Trainees (PHPM fellows\, residents\, or medical student
 s)\n\nPlease note that in-person registration will end on Friday November 
 14th\, 2025 at 11:59pm. Online registration will remain open until the f
 irst day of the conference. In-person registrants may convert to online re
 gistration after the deadline (no refund)\, but online registrants may no
 t convert to in-person after the deadline.\n\n&nbsp\;\n\n*only available 
 to Members after logging in. If you have forgotten your password\, please 
 email hoc.secretariat@phabc.org.\nGST #80264 1316 RT0001
LOCATION:Ponderosa Commons: Oak House - UBC\, 6445 University Boulevard\, 
 Vancouver\, BC\, V6T 1Z2\, Canada
X-APPLE-STRUCTURED-LOCATION;VALUE=URI;X-ADDRESS=6445 University Boulevard\,
  Vancouver\, BC\, V6T 1Z2\, Canada;X-APPLE-RADIUS=100;X-TITLE=Ponderosa Co
 mmons: Oak House - UBC:geo:0,0
END:VEVENT
BEGIN:VTIMEZONE
TZID:America/Vancouver
X-LIC-LOCATION:America/Vancouver
BEGIN:STANDARD
DTSTART:20251102T010000
TZOFFSETFROM:-0700
TZOFFSETTO:-0800
TZNAME:PST
END:STANDARD
END:VTIMEZONE
END:VCALENDAR